BEGIN:VCALENDAR
VERSION:2.0
PRODID:-//In St. Louis, For St. Louis//NONSGML v1.0//EN
CALSCALE:GREGORIAN
METHOD:PUBLISH
BEGIN:VEVENT
UID:6339-0
SUMMARY:2026 Environmental Research Symposium
DTSTART:20260223T190000Z
DTEND:20260223T233000Z
DTSTAMP:20260210T201007Z
LAST-MODIFIED:20260211T162436Z
SEQUENCE:0
LOCATION:Clark Fox Forum in Hillman Hall, St. Louis, Missouri 63105
DESCRIPTION:\nJoin the Center for the Environment\, its scholars\, students\, staff and partners to highlight environmental research across the university and beyond. This half-day\, interdisciplinary symposium is designed to bring together WashU’s diverse scholarly community to share knowledge\, nurture collaborations\, and sparking new ideas to help address our deepest environmental challenges. \n\n\n\n\nKeynote by Tony Reames: “Powering Change: How the Energy Transition is Shaped by People\, Places and Policy”\n\n\n\nResearch Highlights: Researchers will share brief\, impactful updates on their work\, highlighting the scale\, scope and diversity of environmental research at WashU.\n\n\n\nGraduate Student Lightning Talks: This fast-paced session will showcase the exciting work of WashU’s environmental graduate student community. These 5-minute talks will give brief\, impactful glimpses into emerging research.\n\n\n\nPoster session and Networking Reception: Enjoy drinks\, light fare\, and each other’s company while you explore the diverse environmental research being conducted by our talented community. \n\n\n\n\n\n\n\n\n\nLearn more and register here.\n\n\n\n\n\n
END:VEVENT
END:VCALENDAR