BEGIN:VCALENDAR
VERSION:2.0
PRODID:-//In St. Louis, For St. Louis//NONSGML v1.0//EN
CALSCALE:GREGORIAN
METHOD:PUBLISH
BEGIN:VEVENT
UID:4866-0
SUMMARY:Greater St. Louis Marathon
DTSTART:20250426T050000Z
DTEND:20250427T045900Z
DTSTAMP:20250129T162250Z
LAST-MODIFIED:20250207T192607Z
SEQUENCE:0
DESCRIPTION:\nWashU is proud to partner again with Greater St. Louis Marathon\, a St. Louis tradition that features a marathon\, half-marathon\, 10K\, 5K and 1-mile family fun run. The 2025 race will take place April 26th in downtown St. Louis. \n\n\n\nThis not-to-be-missed event promises a weekend filled with exciting courses\, iconic landmarks\, and vibrant celebrations\, including the return of the National Running Club Championships & Rally.\n\n\n\n\nLearn more about the event here.\n\n
END:VEVENT
END:VCALENDAR